BEGIN:VCALENDAR
VERSION:2.0
PRODID:-//Sam Serveert - ECPv6.10.1.1//NONSGML v1.0//EN
CALSCALE:GREGORIAN
METHOD:PUBLISH
X-ORIGINAL-URL:https://samserveert.be
X-WR-CALDESC:Events for Sam Serveert
REFRESH-INTERVAL;VALUE=DURATION:PT1H
X-Robots-Tag:noindex
X-PUBLISHED-TTL:PT1H
BEGIN:VTIMEZONE
TZID:Europe/Brussels
BEGIN:DAYLIGHT
TZOFFSETFROM:+0100
TZOFFSETTO:+0200
TZNAME:CEST
DTSTART:20260329T010000
END:DAYLIGHT
BEGIN:STANDARD
TZOFFSETFROM:+0200
TZOFFSETTO:+0100
TZNAME:CET
DTSTART:20261025T010000
END:STANDARD
END:VTIMEZONE
BEGIN:VEVENT
DTSTART;TZID=Europe/Brussels:20260307T140000
DTEND;TZID=Europe/Brussels:20260307T170000
DTSTAMP:20260422T143425
CREATED:20260119T102240Z
LAST-MODIFIED:20260119T113744Z
UID:3193-1772892000-1772902800@samserveert.be
SUMMARY:Workshop Kombucha & Co
DESCRIPTION:In deze 3 uur durende workshop KOMBUCHA & CO degusteren we enkele van Sam’s huisgemaakte Kombucha’s. We maken niet alleen de gekende Kombucha\, maar maken ook kennis met de prinsessen variant en haar delicate zachte smaak\, namelijk de JUN KOMBUCHA. \nDe SCOBY zwam zal geen geheimen meer hebben\, want Sam leert je de basisprincipes over eerste en tweede fermentaties. Ik ben en blijf een voedselredster\, dus ook zero waste tips kunnen niet ontbreken. Daarom geef ik ook tips mee rond hoe je je surplus SCOBY’S kan verwerken in heel wat lekkers en hoe je Kombucha kan gebruiken als basis in gezonde mocktails. \nNatuurlijk gaan we ook zelf aan de slag om onze eigen signatuursmaak samen te stellen met smaakmakers uit wildpluk of geredde biologische ingrediënten. Zo creëer jij jouw meest unieke\, persoonlijke Kombucha\, die bovendien probiotische eigenschappen heeft en waarmee je je darmflora een gezonde boost geeft. \nEn dat kan je keer op keer\, want je gaat naar huis met een waaier aan praktische tips\, inspiratie\, een fles zelfgemaakte Kombucha én je eigen SCOBY met startervloeistof\, zodat je thuis zelf lustig verder kan experimenteren. \nBereid je dus maar voor op een boeiende namiddag vol sprankelende inspiratie in de natuurlijke omgeving van de West-Vlaamse polders. Vol is vol\, schrijf je daarom vandaag al in en grijp daarmee ook jouw kans om ook biodynamische geitenkazen van Reigershof en ander lokaal lekkers te ontdekken\, de winkel zal namelijk open zijn. \nInbegrepen in deze workshop: \n\nuitgebreide en interactieve degustatie van Sam’s Kombucha’s\nKombucha zwam (SCOBY) + moedervloeistof om tijdens de workshop onze basis Kombucha te maken\nje eigen signatuursmaak op basis van biologische (geredde) ingrediënten en Sam’s huisgemaakte fruitpoeders\, gedroogd fruit / kruiden\, Cheongs\, Shrubs\, …\ngedetailleerde uitleg rond voeding & verzorging van de SCOBY\ninspiratie om je SCOBY’s te verwerken in ander lekkers (= geen verspilling!)\n1 beugelfles\nSam Serveert’s expertise\nuitgebreide mogelijkheid tot vragen stellen\nmogelijkheid om een extra doe-het-zelf pakket aan te kopen als inspirerend geschenk)\nsmaakinspiratie om thuis verder te kunnen experimenteren\nverzekering\n\nWat breng je zelf mee? \n\nmaatbeker\neen smalle trechter (voor vullen van de fles)\nsnijplank\nscherp keukenmesje\nkeukenschort\ngroenten\, kruiden en/of fruit uit eigen tuin (gewoon omdat het plezant is te werken met wat je zelf oogst. Dit is optioneel)\n\nInschrijvingen via deze link. \nWarme groet en tot gauw\, Sam
URL:https://samserveert.be/event/workshop-kombucha-co/
LOCATION:Reigershof\, Polderstraat 4\, De Haan Klemskerke\, 8420\, Belgium
CATEGORIES:Degustatie,fermenteren,Workshop
ATTACH;FMTTYPE=image/jpeg:https://samserveert.be/wp-content/uploads/2026/01/Kombucha-gevulde-drankdispensers-met-JUN-klassiek-roos-hibiscus.jpg
ORGANIZER;CN="Sam Serveert":MAILTO:samserveert@gmail.com
END:VEVENT
END:VCALENDAR