BEGIN:VCALENDAR
VERSION:2.0
PRODID:-//Sam Serveert - ECPv6.10.1.1//NONSGML v1.0//EN
CALSCALE:GREGORIAN
METHOD:PUBLISH
X-WR-CALNAME:Sam Serveert
X-ORIGINAL-URL:https://samserveert.be
X-WR-CALDESC:Events for Sam Serveert
REFRESH-INTERVAL;VALUE=DURATION:PT1H
X-Robots-Tag:noindex
X-PUBLISHED-TTL:PT1H
BEGIN:VTIMEZONE
TZID:Europe/Brussels
BEGIN:DAYLIGHT
TZOFFSETFROM:+0100
TZOFFSETTO:+0200
TZNAME:CEST
DTSTART:20260329T010000
END:DAYLIGHT
BEGIN:STANDARD
TZOFFSETFROM:+0200
TZOFFSETTO:+0100
TZNAME:CET
DTSTART:20261025T010000
END:STANDARD
END:VTIMEZONE
BEGIN:VEVENT
DTSTART;TZID=Europe/Brussels:20260207T090000
DTEND;TZID=Europe/Brussels:20260207T120000
DTSTAMP:20260420T230837
CREATED:20260119T103513Z
LAST-MODIFIED:20260119T201046Z
UID:3199-1770454800-1770465600@samserveert.be
SUMMARY:Gefermenteerde sprankeldrankjes
DESCRIPTION:Gefermenteerde Sprankeldrankjes\, want februari staat bekend om Tournée Minérale: een hele maand zonder alcohol. Perfect dus om iets nieuws te ontdekken! \nIn Sam Serveert’s workshop ‘Gefermenteerde Sprankeldrankjes’ leer je stap voor stap hoe je een gemberstarter met wilde gisten maakt én hoe je die eindeloos kunt blijven gebruiken.\nIn deze workshop leer je eenvoudig restjes fruit(sap)\, infusies\, klokhuizen en schillen verwerken tot verrassende\, natuurlijk bruisende drankjes. Zo zet je in een handomdraai feestelijke alcoholarme bubbels op tafel. \nInschrijven kan via deze link. \nGraag tot dan! \nSam \n 
URL:https://samserveert.be/event/gefermenteerde-sprankeldrankjes/
LOCATION:Dienstencentrum ’t Kursaaltje\, Kerkstraat 1\, Knokke-Heist\, 8301
CATEGORIES:Degustatie,fermenteren,Workshop
ATTACH;FMTTYPE=image/jpeg:https://samserveert.be/wp-content/uploads/2026/01/Kombucha-regenboog-in-flessen.jpg
END:VEVENT
END:VCALENDAR